BEGIN:VCALENDAR
VERSION:2.0
PRODID:-//50 Giorni di Cinema a Firenze - ECPv6.15.4//NONSGML v1.0//EN
CALSCALE:GREGORIAN
METHOD:PUBLISH
X-WR-CALNAME:50 Giorni di Cinema a Firenze
X-ORIGINAL-URL:https://www.50giornidicinema.it
X-WR-CALDESC:Eventi per 50 Giorni di Cinema a Firenze
REFRESH-INTERVAL;VALUE=DURATION:PT1H
X-Robots-Tag:noindex
X-PUBLISHED-TTL:PT1H
BEGIN:VTIMEZONE
TZID:Europe/Helsinki
BEGIN:DAYLIGHT
TZOFFSETFROM:+0200
TZOFFSETTO:+0300
TZNAME:EEST
DTSTART:20230326T010000
END:DAYLIGHT
BEGIN:STANDARD
TZOFFSETFROM:+0300
TZOFFSETTO:+0200
TZNAME:EET
DTSTART:20231029T010000
END:STANDARD
END:VTIMEZONE
BEGIN:VEVENT
DTSTART;VALUE=DATE:20231018
DTEND;VALUE=DATE:20231023
DTSTAMP:20260421T164056
CREATED:20230626T140710Z
LAST-MODIFIED:20230626T142130Z
UID:20665-1697587200-1698019199@www.50giornidicinema.it
SUMMARY:Florence Queer Festival
DESCRIPTION:Le storie e la cultura Queer al di fuori di ogni stereotipo
URL:https://www.50giornidicinema.it/festival/florence-queer-festival/
ATTACH;FMTTYPE=image/jpeg:https://www.50giornidicinema.it/wp-content/uploads/2023/05/florencequeer2.jpg
END:VEVENT
END:VCALENDAR