BEGIN:VCALENDAR
VERSION:2.0
PRODID:-//50 Giorni di Cinema a Firenze - ECPv6.15.4//NONSGML v1.0//EN
CALSCALE:GREGORIAN
METHOD:PUBLISH
X-ORIGINAL-URL:https://www.50giornidicinema.it
X-WR-CALDESC:Eventi per 50 Giorni di Cinema a Firenze
REFRESH-INTERVAL;VALUE=DURATION:PT1H
X-Robots-Tag:noindex
X-PUBLISHED-TTL:PT1H
BEGIN:VTIMEZONE
TZID:Europe/Helsinki
BEGIN:DAYLIGHT
TZOFFSETFROM:+0200
TZOFFSETTO:+0300
TZNAME:EEST
DTSTART:20230326T010000
END:DAYLIGHT
BEGIN:STANDARD
TZOFFSETFROM:+0300
TZOFFSETTO:+0200
TZNAME:EET
DTSTART:20231029T010000
END:STANDARD
END:VTIMEZONE
BEGIN:VEVENT
DTSTART;VALUE=DATE:20231010
DTEND;VALUE=DATE:20231016
DTSTAMP:20260421T181121
CREATED:20230626T140124Z
LAST-MODIFIED:20230626T142125Z
UID:20662-1696896000-1697414399@www.50giornidicinema.it
SUMMARY:Middle East Now Film Festival
DESCRIPTION:Viaggio nel Medio Oriente contemporaneo
URL:https://www.50giornidicinema.it/festival/middle-east-now-film-festival/
ATTACH;FMTTYPE=image/jpeg:https://www.50giornidicinema.it/wp-content/uploads/2023/05/middleeast2.jpg
END:VEVENT
BEGIN:VEVENT
DTSTART;VALUE=DATE:20231018
DTEND;VALUE=DATE:20231023
DTSTAMP:20260421T181121
CREATED:20230626T140710Z
LAST-MODIFIED:20230626T142130Z
UID:20665-1697587200-1698019199@www.50giornidicinema.it
SUMMARY:Florence Queer Festival
DESCRIPTION:Le storie e la cultura Queer al di fuori di ogni stereotipo
URL:https://www.50giornidicinema.it/festival/florence-queer-festival/
ATTACH;FMTTYPE=image/jpeg:https://www.50giornidicinema.it/wp-content/uploads/2023/05/florencequeer2.jpg
END:VEVENT
BEGIN:VEVENT
DTSTART;VALUE=DATE:20231028
DTEND;VALUE=DATE:20231102
DTSTAMP:20260421T181121
CREATED:20230626T140934Z
LAST-MODIFIED:20230626T142135Z
UID:20667-1698451200-1698883199@www.50giornidicinema.it
SUMMARY:France Odeon – Festival del cinema francese
DESCRIPTION:Il migliore cinema francese in anteprima a Firenze
URL:https://www.50giornidicinema.it/festival/france-odeon-festival-del-cinema-francese/
ATTACH;FMTTYPE=image/jpeg:https://www.50giornidicinema.it/wp-content/uploads/2023/05/franceodeon2.jpg
END:VEVENT
BEGIN:VEVENT
DTSTART;VALUE=DATE:20231104
DTEND;VALUE=DATE:20231113
DTSTAMP:20260421T181121
CREATED:20230626T141118Z
LAST-MODIFIED:20230626T142156Z
UID:20669-1699056000-1699833599@www.50giornidicinema.it
SUMMARY:Festival dei Popoli – Festival Internazionale di Cinema Documentario
DESCRIPTION:Il più importante Festival Internazionale di cinema documentario in Italia e il più antico in Europa
URL:https://www.50giornidicinema.it/festival/festival-dei-popoli-festival-internazionale-di-cinema-documentario/
ATTACH;FMTTYPE=image/jpeg:https://www.50giornidicinema.it/wp-content/uploads/2023/05/festivaldeipopoli2.jpg
END:VEVENT
BEGIN:VEVENT
DTSTART;VALUE=DATE:20231115
DTEND;VALUE=DATE:20231120
DTSTAMP:20260421T181121
CREATED:20230626T141307Z
LAST-MODIFIED:20230626T142159Z
UID:20671-1700006400-1700438399@www.50giornidicinema.it
SUMMARY:Lo schermo dell’arte
DESCRIPTION:Festival di cinema e arte contemporanea
URL:https://www.50giornidicinema.it/festival/lo-schermo-dellarte/
ATTACH;FMTTYPE=image/jpeg:https://www.50giornidicinema.it/wp-content/uploads/2023/05/schermodellarte2.jpg
END:VEVENT
BEGIN:VEVENT
DTSTART;VALUE=DATE:20231124
DTEND;VALUE=DATE:20231127
DTSTAMP:20260421T181121
CREATED:20230626T141510Z
LAST-MODIFIED:20230626T142204Z
UID:20673-1700784000-1701043199@www.50giornidicinema.it
SUMMARY:Festival internazionale di cinema e donne
DESCRIPTION:Da 44 anni\, il meglio\, su grande schermo\, a firma femminile
URL:https://www.50giornidicinema.it/festival/festival-internazionale-di-cinema-e-donne/
ATTACH;FMTTYPE=image/jpeg:https://www.50giornidicinema.it/wp-content/uploads/2023/06/cinemaedonne.jpg
END:VEVENT
BEGIN:VEVENT
DTSTART;VALUE=DATE:20231201
DTEND;VALUE=DATE:20231202
DTSTAMP:20260421T181121
CREATED:20230626T141628Z
LAST-MODIFIED:20230626T141628Z
UID:20675-1701388800-1701475199@www.50giornidicinema.it
SUMMARY:Premio N.I.C.E. Città di Firenze
DESCRIPTION:Premio Donatella Carmi Bartolozzi Città di Firenze 2023
URL:https://www.50giornidicinema.it/festival/premio-n-i-c-e-citta-di-firenze/
ATTACH;FMTTYPE=image/jpeg:https://www.50giornidicinema.it/wp-content/uploads/2023/05/premionice2.jpg
END:VEVENT
BEGIN:VEVENT
DTSTART;VALUE=DATE:20231207
DTEND;VALUE=DATE:20231213
DTSTAMP:20260421T181121
CREATED:20230626T141805Z
LAST-MODIFIED:20230629T125326Z
UID:20677-1701907200-1702425599@www.50giornidicinema.it
SUMMARY:River to River Florence Indian Film Festival
DESCRIPTION:Una finestra sull’India contemporanea
URL:https://www.50giornidicinema.it/festival/river-to-river-florence-indian-film-festival/
ATTACH;FMTTYPE=image/jpeg:https://www.50giornidicinema.it/wp-content/uploads/2023/05/rivertoriver2.jpg
END:VEVENT
END:VCALENDAR